BEGIN:VCALENDAR
VERSION:2.0
PRODID:-//wp-events-plugin.com//7.2.3.1//EN
TZID:Europe/London
X-WR-TIMEZONE:Europe/London
BEGIN:VEVENT
UID:884@barbaragibson.co.uk
DTSTART;TZID=Europe/London:20170912T190000
DTEND;TZID=Europe/London:20170912T200000
DTSTAMP:20170822T134339Z
URL:https://www.barbaragibson.co.uk/events/somatics-for-beginners-2017-09-
 12/
SUMMARY:Somatics for beginners
DESCRIPTION:This class is for anyone curious about finding ease and integra
 tion within their everyday movements\, and posture.\n\nThrough Somatic mov
 ement enquiries and invitations you will unravel awkward movement patterns
  or uncomfortable postural habits and discover greater ease and expression
  of movement.\n\nThis is a slow practice with mindful movements\, teaching
  your muscles to relax\, calming your nervous system so that you can re-pa
 ttern your body's movements.\n\nThe course is a series of 12 classes runni
 ng from 12 September to 5 December and the cost is £135.\n\nPlease bring 
 a yoga mat and 2 blankets.\n\n&nbsp\;
CATEGORIES:Somatics
LOCATION:The Crescent Arts Centre\, 2-4 University Road\, BELFAST\,  BT7 1N
 H\, Northern Ireland
GEO:54.5878373;-5.935196499999961
X-APPLE-STRUCTURED-LOCATION;VALUE=URI;X-ADDRESS=2-4 University Road\, BELFA
 ST\,  BT7 1NH\, Northern Ireland;X-APPLE-RADIUS=100;X-TITLE=The Crescent A
 rts Centre:geo:54.5878373,-5.935196499999961
END:VEVENT
BEGIN:VTIMEZONE
TZID:Europe/London
X-LIC-LOCATION:Europe/London
BEGIN:DAYLIGHT
DTSTART:20170326T020000
TZOFFSETFROM:+0000
TZOFFSETTO:+0100
TZNAME:BST
END:DAYLIGHT
END:VTIMEZONE
END:VCALENDAR