BEGIN:VCALENDAR
VERSION:2.0
PRODID:-//wp-events-plugin.com//7.2.3.1//EN
TZID:Europe/London
X-WR-TIMEZONE:Europe/London
BEGIN:VEVENT
UID:1136@barbaragibson.co.uk
DTSTART;TZID=Europe/London:20200201T103000
DTEND;TZID=Europe/London:20200201T133000
DTSTAMP:20200102T185013Z
URL:https://www.barbaragibson.co.uk/events/saturday-extended-class/
SUMMARY:Saturday Extended Class
DESCRIPTION:The extended Saturday morning class will be a mix of movement\,
  alignment and release work\, to include Somatics\, Scaravelli-inspired yo
 ga and functional exercises. I intend to have breathing exercises at the e
 nd with time for relaxation.\n\nIf you have never done an extended class o
 r workshop with me don't worry\, the time flies and the work becomes clear
 er when you have time to relax into it all\, so give it a try.  Please le
 t me know as soon as possible if you would like to attend.
CATEGORIES:Workshop
LOCATION:St Mark's Church\, Church Street\, NEWTOWNARDS\,  BT23 4AN\, North
 ern Ireland
GEO:54.59482588505308;-5.703024811608884
X-APPLE-STRUCTURED-LOCATION;VALUE=URI;X-ADDRESS=Church Street\, NEWTOWNARDS
 \,  BT23 4AN\, Northern Ireland;X-APPLE-RADIUS=100;X-TITLE=St Mark's Churc
 h:geo:54.59482588505308,-5.703024811608884
END:VEVENT
BEGIN:VTIMEZONE
TZID:Europe/London
X-LIC-LOCATION:Europe/London
BEGIN:STANDARD
DTSTART:20191027T010000
TZOFFSETFROM:+0100
TZOFFSETTO:+0000
TZNAME:GMT
END:STANDARD
END:VTIMEZONE
END:VCALENDAR