BEGIN:VCALENDAR
VERSION:2.0
PRODID:-//wp-events-plugin.com//7.2.3.1//EN
TZID:Europe/London
X-WR-TIMEZONE:Europe/London
BEGIN:VEVENT
UID:1137@barbaragibson.co.uk
DTSTART;TZID=Europe/London:20180623T100000
DTEND;TZID=Europe/London:20180623T123000
DTSTAMP:20180516T160042Z
URL:https://www.barbaragibson.co.uk/events/saturday-extended-class-2/
SUMMARY:Saturday Extended Class
DESCRIPTION:The class will be a mix of movement\, alignment and release wor
 k\, to include Somatics\, Scaravelli-inspired yoga and functional exercise
 s. I intend to have breathing exercises at the end with time for relaxatio
 n.\n\nPlease let me know as soon as possible if you would like to attend.\
 n\n&nbsp\;
CATEGORIES:Pilates,Somatics,Workshop,Yoga
LOCATION:Friends Meeting House\,  22 Marlborough Park N\, BELFAST\,  BT9 6H
 J\, Northern Ireland
GEO:54.57572729066277;-5.95333540793456
X-APPLE-STRUCTURED-LOCATION;VALUE=URI;X-ADDRESS= 22 Marlborough Park N\, BE
 LFAST\,  BT9 6HJ\, Northern Ireland;X-APPLE-RADIUS=100;X-TITLE=Friends Mee
 ting House:geo:54.57572729066277,-5.95333540793456
END:VEVENT
BEGIN:VTIMEZONE
TZID:Europe/London
X-LIC-LOCATION:Europe/London
BEGIN:DAYLIGHT
DTSTART:20180325T020000
TZOFFSETFROM:+0000
TZOFFSETTO:+0100
TZNAME:BST
END:DAYLIGHT
END:VTIMEZONE
END:VCALENDAR