BEGIN:VCALENDAR
VERSION:2.0
PRODID:-//wp-events-plugin.com//7.2.3.1//EN
TZID:Europe/London
X-WR-TIMEZONE:Europe/London
BEGIN:VEVENT
UID:1285@barbaragibson.co.uk
DTSTART;TZID=Europe/London:20190202T103000
DTEND;TZID=Europe/London:20190202T123000
DTSTAMP:20190131T144727Z
URL:https://www.barbaragibson.co.uk/events/extended-saturday-class/
SUMMARY:Extended Saturday Class
DESCRIPTION:A mix of Somatic\, Pilates\, Functional Movement and some Scara
 velli-inspired yoga.\n\nPlease bring a yoga mat\, blanket\, blocks\, cushi
 on etc for comfort.\n\nCost £30.
CATEGORIES:Pilates,Somatics,Workshop,Yoga
LOCATION:St Mark's Church\, Church Street\, NEWTOWNARDS\,  BT23 4AN\, North
 ern Ireland
GEO:54.59482588505308;-5.703024811608884
X-APPLE-STRUCTURED-LOCATION;VALUE=URI;X-ADDRESS=Church Street\, NEWTOWNARDS
 \,  BT23 4AN\, Northern Ireland;X-APPLE-RADIUS=100;X-TITLE=St Mark's Churc
 h:geo:54.59482588505308,-5.703024811608884
END:VEVENT
BEGIN:VTIMEZONE
TZID:Europe/London
X-LIC-LOCATION:Europe/London
BEGIN:STANDARD
DTSTART:20181028T010000
TZOFFSETFROM:+0100
TZOFFSETTO:+0000
TZNAME:GMT
END:STANDARD
END:VTIMEZONE
END:VCALENDAR