BEGIN:VCALENDAR
VERSION:2.0
PRODID:-//wp-events-plugin.com//7.2.3.1//EN
TZID:Europe/London
X-WR-TIMEZONE:Europe/London
BEGIN:VEVENT
UID:897@barbaragibson.co.uk
DTSTART;TZID=Europe/London:20171014T100000
DTEND;TZID=Europe/London:20171014T120000
DTSTAMP:20170927T133005Z
URL:https://www.barbaragibson.co.uk/events/extended-saturday-class-on-soma
 tics/
SUMMARY:Extended Saturday Class on Somatics
DESCRIPTION:This extended Saturday class will be a morning of Somatic movem
 ents. Taking time to open and explore tension patterns within your body an
 d learning to become aware of them to release them. I hope to include some
  Scaravelli-inspired yoga within the class depending on how everyone gets 
 on.\n\nThe cost is £30.\n\nPlease let me know as soon as possible if you 
 would like to attend.\n\nYou will need to bring two blankets as well as yo
 ur yoga mat.
CATEGORIES:Somatics,Workshop
LOCATION:Friends Meeting House\,  22 Marlborough Park N\, BELFAST\,  BT9 6H
 J\, Northern Ireland
GEO:54.57572729066277;-5.95333540793456
X-APPLE-STRUCTURED-LOCATION;VALUE=URI;X-ADDRESS= 22 Marlborough Park N\, BE
 LFAST\,  BT9 6HJ\, Northern Ireland;X-APPLE-RADIUS=100;X-TITLE=Friends Mee
 ting House:geo:54.57572729066277,-5.95333540793456
END:VEVENT
BEGIN:VTIMEZONE
TZID:Europe/London
X-LIC-LOCATION:Europe/London
BEGIN:DAYLIGHT
DTSTART:20170326T020000
TZOFFSETFROM:+0000
TZOFFSETTO:+0100
TZNAME:BST
END:DAYLIGHT
END:VTIMEZONE
END:VCALENDAR